BEGIN:VCALENDAR
VERSION:2.0
PRODID:-//eventon.com NONSGML v1.0//EN
CALSCALE:GREGORIAN
METHOD:PUBLISH
BEGIN:VEVENT
UID:69e89a4206c18
DTSTAMP:20260422T095202Z
DTSTART:20240309T120000Z
DTEND:20240309T143000Z
LOCATION:
SUMMARY:Wehen Wiesbaden : Hannover 96
DESCRIPTION:Wehen Wiesbaden : Hannover 96\nhttps://www.bistrolaboheme.de/ev
 ents/wehen-wiesbaden-hannover-96/
URL:https://www.bistrolaboheme.de/events/wehen-wiesbaden-hannover-96/
END:VEVENT
END:VCALENDAR