BEGIN:VCALENDAR
VERSION:2.0
PRODID:-//eventon.com NONSGML v1.0//EN
CALSCALE:GREGORIAN
METHOD:PUBLISH
BEGIN:VEVENT
UID:69e74d174d0c1
DTSTAMP:20260421T101031Z
DTSTART:20241101T200000Z
DTEND:20241101T010000Z
LOCATION:
SUMMARY:Karaoke mit Sebastian
DESCRIPTION:Karaoke mit Sebastian\nhttps://www.bistrolaboheme.de/events/kar
 aoke-mit-sebastian-4/
URL:https://www.bistrolaboheme.de/events/karaoke-mit-sebastian-4/
END:VEVENT
END:VCALENDAR