BEGIN:VCALENDAR
VERSION:2.0
PRODID:-//eventon.com NONSGML v1.0//EN
CALSCALE:GREGORIAN
METHOD:PUBLISH
BEGIN:VEVENT
UID:69e75065d6a21
DTSTAMP:20260421T102437Z
DTSTART:20260323T190000Z
DTEND:20260323T225000Z
LOCATION:
SUMMARY:Table-Quiz
DESCRIPTION:Table-Quiz\nhttps://www.bistrolaboheme.de/events/table-quiz/
URL:https://www.bistrolaboheme.de/events/table-quiz/
END:VEVENT
END:VCALENDAR